View In:
ArcGIS JavaScript
ArcGIS Online Map Viewer
ArcGIS Earth
Service Description: SoilsMap1918_GC
Name: SoilsMap1918_GC
Description:
Single Fused Map Cache: false
Extent:
XMin: 2295853.035743639
YMin: 7033727.794368205
XMax: 2497794.7457783436
YMax: 7217557.320386879
Spatial Reference: 102738
(2276)
Initial Extent:
XMin: 2295853.035743639
YMin: 7033727.794368205
XMax: 2497794.7457783436
YMax: 7217557.320386879
Spatial Reference: 102738
(2276)
Full Extent:
XMin: 2295853.035743639
YMin: 7033727.794368205
XMax: 2497794.7457783436
YMax: 7217557.320386879
Spatial Reference: 102738
(2276)
Pixel Size X: 13.517752863960423
Pixel Size Y: 13.46835123589087
Band Count: 3
Pixel Type: U16
RasterFunction Infos: {"rasterFunctionInfos": [{
"name": "None",
"description": "",
"help": ""
}]}
Mensuration Capabilities: Basic
Has Histograms: true
Has Colormap: false
Has Multi Dimensions : false
Rendering Rule:
Min Scale: 0
Max Scale: 0
Copyright Text:
Service Data Type: esriImageServiceDataTypeGeneric
Min Values: 0, 0, 0
Max Values: 255, 255, 255
Mean Values: 207.30783016023767, 195.24501836132148, 169.71819339988244
Standard Deviation Values: 40.9599978539959, 39.51353597795598, 53.84553632396856
Object ID Field:
Fields:
None
Default Mosaic Method: Center
Allowed Mosaic Methods:
SortField:
SortValue: null
Mosaic Operator: First
Default Compression Quality: 75
Default Resampling Method: Bilinear
Max Record Count: null
Max Image Height: 4100
Max Image Width: 15000
Max Download Image Count: null
Max Mosaic Image Count: null
Allow Raster Function: true
Allow Copy: true
Allow Analysis: true
Allow Compute TiePoints: false
Supports Statistics: false
Supports Advanced Queries: false
Use StandardizedQueries: true
Raster Type Infos:
Name: Raster Dataset
Description: Supports all ArcGIS Raster Datasets
Help:
Has Raster Attribute Table: false
Edit Fields Info: null
Ownership Based AccessControl For Rasters: null
Child Resources:
Info
Histograms
Statistics
Key Properties
Legend
Raster Function Infos
Supported Operations:
Export Image
Identify
Measure
Compute Histograms
Compute Statistics Histograms
Get Samples
Compute Class Statistics
Query Boundary
Compute Pixel Location
Compute Angles
Validate
Project