View In:
ArcGIS JavaScript
ArcGIS Online Map Viewer
ArcGIS Earth
Service Description: 500Yr_Flood_Water_Surface_Elevation_Catherine_Branch
Name: 500Yr_Flood_Water_Surface_Elevation_Catherine_Branch
Description:
Single Fused Map Cache: false
Extent:
XMin: 2332434.9883922185
YMin: 7064361.994431809
XMax: 2350299.9883922185
YMax: 7073526.994431809
Spatial Reference: 102738
(2276)
Initial Extent:
XMin: 2332434.9883922185
YMin: 7064361.994431809
XMax: 2350299.9883922185
YMax: 7073526.994431809
Spatial Reference: 102738
(2276)
Full Extent:
XMin: 2332434.9883922185
YMin: 7064361.994431809
XMax: 2350299.9883922185
YMax: 7073526.994431809
Spatial Reference: 102738
(2276)
Pixel Size X: 3.0
Pixel Size Y: 3.0
Band Count: 1
Pixel Type: F32
RasterFunction Infos: {"rasterFunctionInfos": [{
"name": "None",
"description": "",
"help": ""
}]}
Mensuration Capabilities: Basic
Has Histograms: true
Has Colormap: false
Has Multi Dimensions : false
Rendering Rule:
Min Scale: 0
Max Scale: 0
Copyright Text:
Service Data Type: esriImageServiceDataTypeGeneric
Min Values: 575.29998779297
Max Values: 699
Mean Values: 624.68990997016
Standard Deviation Values: 34.574848395327
Object ID Field:
Fields:
None
Default Mosaic Method: Center
Allowed Mosaic Methods:
SortField:
SortValue: null
Mosaic Operator: First
Default Compression Quality: 75
Default Resampling Method: Bilinear
Max Record Count: null
Max Image Height: 4100
Max Image Width: 15000
Max Download Image Count: null
Max Mosaic Image Count: null
Allow Raster Function: true
Allow Copy: true
Allow Analysis: true
Allow Compute TiePoints: false
Supports Statistics: false
Supports Advanced Queries: false
Use StandardizedQueries: true
Raster Type Infos:
Name: Raster Dataset
Description: Supports all ArcGIS Raster Datasets
Help:
Has Raster Attribute Table: false
Edit Fields Info: null
Ownership Based AccessControl For Rasters: null
Child Resources:
Info
Histograms
Statistics
Key Properties
Legend
Raster Function Infos
Supported Operations:
Export Image
Identify
Measure
Compute Histograms
Compute Statistics Histograms
Get Samples
Compute Class Statistics
Query Boundary
Compute Pixel Location
Compute Angles
Validate
Project