View In:
ArcGIS JavaScript
ArcGIS Online Map Viewer
ArcGIS Earth
Service Description: 500Yr_Flood_Depth_Catherine_Branch
Name: 500Yr_Flood_Depth_Catherine_Branch
Description:
Single Fused Map Cache: false
Extent:
XMin: 657579.9883922185
YMin: 3657291.9944318086
XMax: 663040.9883922185
YMax: 3660112.9944318086
Spatial Reference: 26914
(26914)
Initial Extent:
XMin: 657579.9883922185
YMin: 3657291.9944318086
XMax: 663040.9883922185
YMax: 3660112.9944318086
Spatial Reference: 26914
(26914)
Full Extent:
XMin: 657579.9883922185
YMin: 3657291.9944318086
XMax: 663040.9883922185
YMax: 3660112.9944318086
Spatial Reference: 26914
(26914)
Pixel Size X: 1.0
Pixel Size Y: 1.0
Band Count: 1
Pixel Type: F32
RasterFunction Infos: {"rasterFunctionInfos": [{
"name": "None",
"description": "",
"help": ""
}]}
Mensuration Capabilities: Basic
Has Histograms: true
Has Colormap: false
Has Multi Dimensions : false
Rendering Rule:
Min Scale: 0
Max Scale: 0
Copyright Text:
Service Data Type: esriImageServiceDataTypeGeneric
Min Values: 0
Max Values: 18.89999961853
Mean Values: 3.4574961320187
Standard Deviation Values: 3.4532569758363
Object ID Field:
Fields:
None
Default Mosaic Method: Center
Allowed Mosaic Methods:
SortField:
SortValue: null
Mosaic Operator: First
Default Compression Quality: 75
Default Resampling Method: Bilinear
Max Record Count: null
Max Image Height: 4100
Max Image Width: 15000
Max Download Image Count: null
Max Mosaic Image Count: null
Allow Raster Function: true
Allow Copy: true
Allow Analysis: true
Allow Compute TiePoints: false
Supports Statistics: false
Supports Advanced Queries: false
Use StandardizedQueries: true
Raster Type Infos:
Name: Raster Dataset
Description: Supports all ArcGIS Raster Datasets
Help:
Has Raster Attribute Table: false
Edit Fields Info: null
Ownership Based AccessControl For Rasters: null
Child Resources:
Info
Histograms
Statistics
Key Properties
Legend
Raster Function Infos
Supported Operations:
Export Image
Identify
Measure
Compute Histograms
Compute Statistics Histograms
Get Samples
Compute Class Statistics
Query Boundary
Compute Pixel Location
Compute Angles
Validate
Project