View In:
ArcGIS JavaScript
ArcGIS Online Map Viewer
ArcGIS Earth
Service Description: 100Yr_Flood_Water_Surface_Elevation_Harriet_Creek
Name: 100Yr_Flood_Water_Surface_Elevation_Harriet_Creek
Description:
Single Fused Map Cache: false
Extent:
XMin: 649675.7214729643
YMin: 3657018.7694425597
XMax: 656383.7214729643
YMax: 3662231.7694425597
Spatial Reference: 26914
(26914)
Initial Extent:
XMin: 649675.7214729643
YMin: 3657018.7694425597
XMax: 656383.7214729643
YMax: 3662231.7694425597
Spatial Reference: 26914
(26914)
Full Extent:
XMin: 649675.7214729643
YMin: 3657018.7694425597
XMax: 656383.7214729643
YMax: 3662231.7694425597
Spatial Reference: 26914
(26914)
Pixel Size X: 1.0
Pixel Size Y: 1.0
Band Count: 1
Pixel Type: F32
RasterFunction Infos: {"rasterFunctionInfos": [{
"name": "None",
"description": "",
"help": ""
}]}
Mensuration Capabilities: Basic
Has Histograms: true
Has Colormap: false
Has Multi Dimensions : false
Rendering Rule:
Min Scale: 0
Max Scale: 0
Copyright Text:
Service Data Type: esriImageServiceDataTypeGeneric
Min Values: 678.5
Max Values: 838.7999877929688
Mean Values: 742.1799311875924
Standard Deviation Values: 42.35022613924586
Object ID Field:
Fields:
None
Default Mosaic Method: Center
Allowed Mosaic Methods:
SortField:
SortValue: null
Mosaic Operator: First
Default Compression Quality: 75
Default Resampling Method: Bilinear
Max Record Count: null
Max Image Height: 4100
Max Image Width: 15000
Max Download Image Count: null
Max Mosaic Image Count: null
Allow Raster Function: true
Allow Copy: true
Allow Analysis: true
Allow Compute TiePoints: false
Supports Statistics: false
Supports Advanced Queries: false
Use StandardizedQueries: true
Raster Type Infos:
Name: Raster Dataset
Description: Supports all ArcGIS Raster Datasets
Help:
Has Raster Attribute Table: false
Edit Fields Info: null
Ownership Based AccessControl For Rasters: null
Child Resources:
Info
Histograms
Statistics
Key Properties
Legend
Raster Function Infos
Supported Operations:
Export Image
Identify
Measure
Compute Histograms
Compute Statistics Histograms
Get Samples
Compute Class Statistics
Query Boundary
Compute Pixel Location
Compute Angles
Validate
Project